BEGIN:VCALENDAR
VERSION:2.0
PRODID:-//samoha.fi - ECPv6.15.20//NONSGML v1.0//EN
CALSCALE:GREGORIAN
METHOD:PUBLISH
X-WR-CALNAME:samoha.fi
X-ORIGINAL-URL:https://samoha.fi
X-WR-CALDESC:Tapahtumat samoha.fi
REFRESH-INTERVAL;VALUE=DURATION:PT1H
X-Robots-Tag:noindex
X-PUBLISHED-TTL:PT1H
BEGIN:VTIMEZONE
TZID:Europe/Helsinki
BEGIN:DAYLIGHT
TZOFFSETFROM:+0200
TZOFFSETTO:+0300
TZNAME:EEST
DTSTART:20230326T010000
END:DAYLIGHT
BEGIN:STANDARD
TZOFFSETFROM:+0300
TZOFFSETTO:+0200
TZNAME:EET
DTSTART:20231029T010000
END:STANDARD
BEGIN:DAYLIGHT
TZOFFSETFROM:+0200
TZOFFSETTO:+0300
TZNAME:EEST
DTSTART:20240331T010000
END:DAYLIGHT
BEGIN:STANDARD
TZOFFSETFROM:+0300
TZOFFSETTO:+0200
TZNAME:EET
DTSTART:20241027T010000
END:STANDARD
BEGIN:DAYLIGHT
TZOFFSETFROM:+0200
TZOFFSETTO:+0300
TZNAME:EEST
DTSTART:20250330T010000
END:DAYLIGHT
BEGIN:STANDARD
TZOFFSETFROM:+0300
TZOFFSETTO:+0200
TZNAME:EET
DTSTART:20251026T010000
END:STANDARD
END:VTIMEZONE
BEGIN:VEVENT
DTSTART;TZID=Europe/Helsinki:20240810T100000
DTEND;TZID=Europe/Helsinki:20240810T100000
DTSTAMP:20260419T164705
CREATED:20240413T171143Z
LAST-MODIFIED:20240416T071940Z
UID:4719-1723284000-1723284000@samoha.fi
SUMMARY:Pärnämäen Pärinät
DESCRIPTION:
URL:https://samoha.fi/tapahtumat/parnamaen-parinat-2/
LOCATION:Ruuhijärven Nuorisoseurantalo\, Korkeentie 792\, Ruuhijärvi\, 15580
END:VEVENT
END:VCALENDAR